BEGIN:VCALENDAR
VERSION:2.0
PRODID:-//Party and Diet - ECPv6.15.20//NONSGML v1.0//EN
CALSCALE:GREGORIAN
METHOD:PUBLISH
X-WR-CALNAME:Party and Diet
X-ORIGINAL-URL:https://partyanddiet.com
X-WR-CALDESC:Events for Party and Diet
REFRESH-INTERVAL;VALUE=DURATION:PT1H
X-Robots-Tag:noindex
X-PUBLISHED-TTL:PT1H
BEGIN:VTIMEZONE
TZID:America/Los_Angeles
BEGIN:DAYLIGHT
TZOFFSETFROM:-0800
TZOFFSETTO:-0700
TZNAME:PDT
DTSTART:20250309T100000
END:DAYLIGHT
BEGIN:STANDARD
TZOFFSETFROM:-0700
TZOFFSETTO:-0800
TZNAME:PST
DTSTART:20251102T090000
END:STANDARD
BEGIN:DAYLIGHT
TZOFFSETFROM:-0800
TZOFFSETTO:-0700
TZNAME:PDT
DTSTART:20260308T100000
END:DAYLIGHT
BEGIN:STANDARD
TZOFFSETFROM:-0700
TZOFFSETTO:-0800
TZNAME:PST
DTSTART:20261101T090000
END:STANDARD
BEGIN:DAYLIGHT
TZOFFSETFROM:-0800
TZOFFSETTO:-0700
TZNAME:PDT
DTSTART:20270314T100000
END:DAYLIGHT
BEGIN:STANDARD
TZOFFSETFROM:-0700
TZOFFSETTO:-0800
TZNAME:PST
DTSTART:20271107T090000
END:STANDARD
END:VTIMEZONE
BEGIN:VEVENT
DTSTART;TZID=America/Los_Angeles:20260421T070000
DTEND;TZID=America/Los_Angeles:20260421T080000
DTSTAMP:20260420T014643
CREATED:20211204T131258Z
LAST-MODIFIED:20211204T131258Z
UID:3201-1776754800-1776758400@partyanddiet.com
SUMMARY:Class Time
DESCRIPTION:
URL:https://partyanddiet.com/join-the-tribe-live/class-time/2026-04-21/
END:VEVENT
BEGIN:VEVENT
DTSTART;TZID=America/Los_Angeles:20260425T080000
DTEND;TZID=America/Los_Angeles:20260425T090000
DTSTAMP:20260420T014643
CREATED:20211204T131258Z
LAST-MODIFIED:20211204T131258Z
UID:3204-1777104000-1777107600@partyanddiet.com
SUMMARY:Class Time
DESCRIPTION:
URL:https://partyanddiet.com/join-the-tribe-live/class-time/2026-04-25/
END:VEVENT
BEGIN:VEVENT
DTSTART;TZID=America/Los_Angeles:20260428T070000
DTEND;TZID=America/Los_Angeles:20260428T080000
DTSTAMP:20260420T014643
CREATED:20211204T131258Z
LAST-MODIFIED:20211204T131258Z
UID:3203-1777359600-1777363200@partyanddiet.com
SUMMARY:Class Time
DESCRIPTION:
URL:https://partyanddiet.com/join-the-tribe-live/class-time/2026-04-28/
END:VEVENT
END:VCALENDAR